BEGIN:VCALENDAR
VERSION:2.0
PRODID:-//ChamberMaster//Event Calendar 2.0//EN
METHOD:PUBLISH
X-PUBLISHED-TTL:P3D
REFRESH-INTERVAL:P3D
CALSCALE:GREGORIAN
BEGIN:VEVENT
DTSTART:20120426T230000Z
DTEND:20120427T030000Z
X-MICROSOFT-CDO-ALLDAYEVENT:FALSE
SUMMARY:Taste of Cheraw
DESCRIPTION:The Greater Cheraw Chamber of Commerce hosts Cheraw's finest culinary and entertainment event\, "THE TASTE OF CHERAW" on April 26th\, 7PM until 11PM at 143 McIver Street.  Advanced tickets only. Members $45 and non-members $50. Tickets must be purchased prior to the event. For more information contact the Greater Cheraw Chamber of Commerce at 843.537.7681 or email us at  cherawchamber@cherawchamber.com
X-ALT-DESC;FMTTYPE=text/html:The Greater Cheraw Chamber of Commerce hosts Cheraw&#39\;s finest culinary and entertainment event\, &quot\;THE TASTE OF CHERAW&quot\; on April 26th\, 7PM until 11PM&nbsp\;at 143 McIver Street. &nbsp\;Advanced tickets only. Members $45 and non-members $50. Tickets must be purchased prior to the event. For more information contact the Greater Cheraw Chamber of Commerce at 843.537.7681 or email&nbsp\;us at&nbsp\; cherawchamber@cherawchamber.com &nbsp\;
LOCATION:The 2012 Taste of Cheraw will be held at the home of Anna and Craig Watson located at 143 McIver Street
UID:e.1447.1
SEQUENCE:3
DTSTAMP:20260419T171719Z
URL:http://www.cherawchamber.com.sampleorg.com/events/details/taste-of-cheraw-04-26-2012-1
END:VEVENT

END:VCALENDAR
