BEGIN:VCALENDAR
VERSION:2.0
PRODID:-//ChamberMaster//Event Calendar 2.0//EN
METHOD:PUBLISH
X-PUBLISHED-TTL:P3D
REFRESH-INTERVAL:P3D
CALSCALE:GREGORIAN
BEGIN:VEVENT
DTSTART:20120411T124500Z
DTEND:20120411T190000Z
X-MICROSOFT-CDO-ALLDAYEVENT:FALSE
SUMMARY:Leadership Cheraw - Agribusiness
DESCRIPTION:Leadership Cheraw class on local agribusiness will feature tour of McLeod Farms
X-ALT-DESC;FMTTYPE=text/html:Leadership Cheraw class on local agribusiness will feature tour of McLeod Farms
LOCATION:
UID:e.1447.134
SEQUENCE:3
DTSTAMP:20260419T171743Z
URL:http://www.cherawchamber.com.sampleorg.com/events/details/leadership-cheraw-agribusiness-04-11-2012-134
END:VEVENT

END:VCALENDAR
