BEGIN:VCALENDAR
VERSION:2.0
PRODID:-//ChamberMaster//Event Calendar 2.0//EN
METHOD:PUBLISH
X-PUBLISHED-TTL:P3D
REFRESH-INTERVAL:P3D
CALSCALE:GREGORIAN
BEGIN:VEVENT
DTSTART:20120629T230000Z
DTEND:20120630T010000Z
X-MICROSOFT-CDO-ALLDAYEVENT:FALSE
SUMMARY:Lakeside Music Room at Cheraw State Park
DESCRIPTION:Meet at the dock for the best in regional independent music. Free concert\, charge for food. Cheraw State Park lakeside boat dock. Call 843.537.9656 for details.
X-ALT-DESC;FMTTYPE=text/html:Meet at the dock for the best in regional independent music. Free concert\, charge for food. Cheraw State Park lakeside boat dock. Call 843.537.9656 for details. 
LOCATION:Cher Day
UID:e.1447.279
SEQUENCE:3
DTSTAMP:20260419T213848Z
URL:http://www.cherawchamber.com.sampleorg.com/events/details/lakeside-music-room-at-cheraw-state-park-06-29-2012-279
END:VEVENT

END:VCALENDAR
