BEGIN:VCALENDAR
VERSION:2.0
PRODID:-//ChamberMaster//Event Calendar 2.0//EN
METHOD:PUBLISH
X-PUBLISHED-TTL:P3D
REFRESH-INTERVAL:P3D
CALSCALE:GREGORIAN
BEGIN:VEVENT
DTSTART;VALUE=DATE:20120714
DTEND;VALUE=DATE:20120715
TRANSP:TRANSPARENT
X-MICROSOFT-CDO-ALLDAYEVENT:TRUE
SUMMARY:Jazzin in July (July 14th 6:00 - 8:00PM)
DESCRIPTION:Jazzin in July\n\n$20.00\n\nFeaturing live jazz entertainment by "A New Creation"\n\nProceeds will benefit Mercy in Me Free Medical Clinic\n\nSaturday\, July 14\, 2012    6:00 - 8:00PM\n\nTheatre on the Green\n\nReception:  Passed Hors d'oeuvres\n\n\n\nTicket Locations:\n\nCheraw Chamber of Commerce\n\nPageland Chamber of Commerce
X-ALT-DESC;FMTTYPE=text/html:<span style="font-family: comic sans ms">Jazzin in July<br />\n$20.00<br />\nFeaturing live jazz entertainment by &quot\;A New Creation&quot\;<br />\nProceeds will benefit Mercy in Me Free Medical Clinic<br />\nSaturday\, July 14\, 2012&nbsp\;&nbsp\;&nbsp\; 6:00 - 8:00PM<br />\nTheatre on the Green<br />\nReception:&nbsp\; Passed Hors d&#39\;oeuvres<br />\n<br />\nTicket Locations:<br />\nCheraw Chamber of Commerce<br />\nPageland Chamber of Commerce</span>
LOCATION:Theatre on the Green
UID:e.1447.289
SEQUENCE:3
DTSTAMP:20260419T171743Z
URL:http://www.cherawchamber.com.sampleorg.com/events/details/jazzin-in-july-july-14th-6-00-8-00pm-07-14-2012-289
END:VEVENT

END:VCALENDAR
