BEGIN:VCALENDAR
VERSION:2.0
PRODID:-//ChamberMaster//Event Calendar 2.0//EN
METHOD:PUBLISH
X-PUBLISHED-TTL:P3D
REFRESH-INTERVAL:P3D
CALSCALE:GREGORIAN
BEGIN:VEVENT
DTSTART:20120621T220000Z
DTEND:20120622T003000Z
X-MICROSOFT-CDO-ALLDAYEVENT:FALSE
SUMMARY:Cheraw Alive Summer Concert
DESCRIPTION:Cheraw's Summer Music Concert Series\n\nFeaturing "Too Much Sylvia"\n\nCentennial Park Downtown Cheraw\n\nJune 21\, 2012   6:00- 8:30PM\n\nBring your blankets and lawn chairs\n\nFREE Event\n\n\n\n\n\nContact Recreation and Cultural Services for details at 537-8420
X-ALT-DESC;FMTTYPE=text/html:<strong>Cheraw&#39\;s Summer Music Concert Series</strong><br />\nFeaturing &quot\;Too Much Sylvia&quot\;<br />\nCentennial Park Downtown Cheraw<br />\nJune 21\, 2012&nbsp\;&nbsp\; 6:00- 8:30PM<br />\nBring your blankets and lawn chairs<br />\nFREE Event<br />\n<br />\n<br />\nContact Recreation and Cultural Services for details at 537-8420
LOCATION:Centennial Park-Corner of Second and Market Street
UID:e.1447.285
SEQUENCE:3
DTSTAMP:20260419T130513Z
URL:http://www.cherawchamber.com.sampleorg.com/events/details/cheraw-alive-summer-concert-06-21-2012-285
END:VEVENT

END:VCALENDAR
