BEGIN:VCALENDAR
VERSION:2.0
PRODID:-//ChamberMaster//Event Calendar 2.0//EN
METHOD:PUBLISH
X-PUBLISHED-TTL:P3D
REFRESH-INTERVAL:P3D
CALSCALE:GREGORIAN
BEGIN:VEVENT
DTSTART:20120612T123000Z
DTEND:20120612T130000Z
X-MICROSOFT-CDO-ALLDAYEVENT:FALSE
SUMMARY:Chamber Member Website Demo
DESCRIPTION:The Greater Cheraw Chamber of Commerce would like to invite you to a demonstration of ChamberMaster\, a cutting edge software designed exclusively for Commerce Chambers. Best part is... it is designed to serve and empower our members. It is a FREE value-added benefit for being a Chamber Member! Join us for this free presentation and coffee with refreshments.  \n									\n										June 12\, 2012\n									\n										Cheraw Police Department Conference Room\n									\n										Arrive approximately 8:15AM demo starts at 8:30 AM\n									\n										      RSVP to Chamber Office @ 537-7681
X-ALT-DESC;FMTTYPE=text/html:<div style="color: gray">\n	<table border="0" cellpadding="0">\n		<tbody>\n			<tr>\n				<td style="border-bottom: #000000\; border-left: #000000\; padding-bottom: 0.75pt\; padding-left: 0.75pt\; padding-right: 0.75pt\; border-top: #000000\; border-right: #000000\; padding-top: 0.75pt">\n					<table border="0" cellpadding="0" class="MsoNormalTable" style="mso-cellspacing: 1.5pt\; mso-yfti-tbllook: 1184\; mso-padding-alt: 0in 5.4pt 0in 5.4pt">\n						<tbody>\n							<tr style="mso-yfti-irow: 0\; mso-yfti-firstrow: yes\; mso-yfti-lastrow: yes">\n								<td style="border-bottom: #000000\; border-left: #000000\; padding-bottom: 0.75pt\; background-color: transparent\; padding-left: 0.75pt\; padding-right: 0.75pt\; border-top: #000000\; border-right: #000000\; padding-top: 0.75pt">\n									<p style="margin: 0in 0in 0pt">\n										<span style="font-family: 'arial narrow'\, 'sans-serif'"><font size="3"><font color="#000000">The Greater Cheraw Chamber of Commerce would like to invite you to a demonstration of&nbsp\;ChamberMaster\, a cutting edge software designed exclusively for Commerce Chambers. Best part is... it is designed to <u>serve and empower our members</u>. It is a FREE value-added benefit for being a Chamber Member! Join us for this free presentation and coffee with refreshments.&nbsp\;&nbsp\;</font></font></span></p>\n									<p align="center" style="text-align: center\; margin: 0in 0in 0pt">\n										<font face="Times New Roman"><font size="3"><font color="#000000"><strong>June 12\, 2012</strong></font></font></font></p>\n									<p align="center" style="text-align: center\; margin: 0in 0in 0pt">\n										<font face="Times New Roman"><font size="3"><font color="#000000"><strong>Cheraw Police Department Conference Room</strong></font></font></font></p>\n									<p align="center" style="text-align: center\; margin: 0in 0in 0pt">\n										<font face="Times New Roman"><font size="3"><font color="#000000"><strong>Arrive approximately 8:15AM demo starts at 8:30 AM</strong></font></font></font></p>\n									<p align="center" style="text-align: center\; margin: 0in 0in 0pt">\n										<font size="3"><font color="#000000"><font face="Times New Roman">&nbsp\;&nbsp\;&nbsp\;&nbsp\;&nbsp\; </font><strong><span style="font-family: 'arial narrow'\, 'sans-serif'">RSVP</span></strong><span style="font-family: 'arial narrow'\, 'sans-serif'"> to Chamber Office @ 537-7681<span _fck_bookmark="1" style="display: none">&nbsp\;</span></span></font></font></p>\n								</td>\n							</tr>\n						</tbody>\n					</table>\n				</td>\n			</tr>\n		</tbody>\n	</table>\n</div>\n
LOCATION:Cheraw Police Department Conference Room
UID:e.1447.282
SEQUENCE:3
DTSTAMP:20260419T130512Z
URL:http://www.cherawchamber.com.sampleorg.com/events/details/chamber-member-website-demo-06-12-2012-282
END:VEVENT

END:VCALENDAR
