BEGIN:VCALENDAR
VERSION:2.0
PRODID:-//ChamberMaster//Event Calendar 2.0//EN
METHOD:PUBLISH
X-PUBLISHED-TTL:P3D
REFRESH-INTERVAL:P3D
CALSCALE:GREGORIAN
BEGIN:VEVENT
DTSTART:20120329T213000Z
DTEND:20120330T000000Z
X-MICROSOFT-CDO-ALLDAYEVENT:FALSE
SUMMARY:Cabin Creek Grand Re-opening and Ribbon Cutting
DESCRIPTION:Cabin Creek celebrates their grand re-opening and ribbon cutting on Thursday March 29th at 5:30PM \n\nGrand re-opening specials will be offered throughout the night
X-ALT-DESC;FMTTYPE=text/html:Cabin Creek celebrates their grand re-opening and ribbon cutting on Thursday March 29th at 5:30PM&nbsp\;<br />\nGrand re-opening specials will be offered throughout the night
LOCATION:Cabin Creek Restaurant 2529 Highway 1 South of Cheraw
UID:e.1447.133
SEQUENCE:3
DTSTAMP:20260419T213848Z
URL:http://www.cherawchamber.com.sampleorg.com/events/details/cabin-creek-grand-re-opening-and-ribbon-cutting-03-29-2012-133
END:VEVENT

END:VCALENDAR
