BEGIN:VCALENDAR
VERSION:2.0
PRODID:-//ChamberMaster//Event Calendar 2.0//EN
METHOD:PUBLISH
X-PUBLISHED-TTL:P3D
REFRESH-INTERVAL:P3D
CALSCALE:GREGORIAN
BEGIN:VEVENT
DTSTART:20120628T213000Z
DTEND:20120628T230000Z
X-MICROSOFT-CDO-ALLDAYEVENT:FALSE
SUMMARY:Business After Hours
DESCRIPTION:Meet ob/gyn\, Dr. Larissa Guerrero \n\n	at Palmetto OB/GYN's Open House and\n\n	Chesterfield General Hospital's Business After Hours
X-ALT-DESC;FMTTYPE=text/html:<h3>\n	<span style="font-size: 16px"><strong><span style="color: #333366"><span style="background-color: #ffffff">Meet ob/gyn\, Dr. Larissa Guerrero </span></span></strong></span></h3>\n<h3>\n	<span style="font-size: 16px"><strong><span style="color: #333366"><span style="background-color: #ffffff">at Palmetto OB/GYN&#39\;s Open House and</span></span></strong></span></h3>\n<h3>\n	<span style="font-size: 16px"><strong><span style="color: #333366"><span style="background-color: #ffffff">Chesterfield General Hospital&#39\;s Business After Hours</span></span></strong></span></h3>\n
LOCATION:Palmetto OB/GYN\, 722 Chesterfield Hwy.\, Cheraw
UID:e.1447.288
SEQUENCE:3
DTSTAMP:20260419T142626Z
URL:http://www.cherawchamber.com.sampleorg.com/events/details/business-after-hours-06-28-2012-288
END:VEVENT

END:VCALENDAR
