BEGIN:VCALENDAR
VERSION:2.0
PRODID:-//ChamberMaster//Event Calendar 2.0//EN
METHOD:PUBLISH
X-PUBLISHED-TTL:P3D
REFRESH-INTERVAL:P3D
CALSCALE:GREGORIAN
BEGIN:VEVENT
DTSTART:20120623T170000Z
DTEND:20120624T000000Z
X-MICROSOFT-CDO-ALLDAYEVENT:FALSE
SUMMARY:All that Jazz Criterium Bike Race
DESCRIPTION:Sanctioned by the Carolinas Cycling Association. Spectators will enjoy bicyclists racing through the Historic District of Cheraw
X-ALT-DESC;FMTTYPE=text/html:Sanctioned by the Carolinas Cycling Association. Spectators will enjoy bicyclists racing through the Historic District of Cheraw
LOCATION:Downtown Cheraw
UID:e.1447.284
SEQUENCE:3
DTSTAMP:20260419T171743Z
URL:http://www.cherawchamber.com.sampleorg.com/events/details/all-that-jazz-criterium-bike-race-06-23-2012-284
END:VEVENT

END:VCALENDAR
